
BEGIN:VCALENDAR
VERSION:2.0
PRODID:-//wp-events-plugin.com//7.0.4//EN
BEGIN:VEVENT
UID:18@srijagannathchicago.org
DTSTART;VALUE=DATE:20250223
DTEND;VALUE=DATE:20250225
DTSTAMP:20250225T035253Z
URL:https://srijagannathchicago.org/events/maha-shivaratri/
SUMMARY:Maha Shivaratri
DESCRIPTION:Maha Shivaratri is a Hindu festival celebrated annually in hono
 ur of the deity Shiva.\n\nAccording to the Hindu calendar\, the festival i
 s observed on the fourteenth day of the first half of the lunar month of P
 halguna. The festival commemorates the wedding of Shiva and Parvati\, and 
 the occasion that Shiva performs his divine dance\, called the Tandava.
ATTACH;FMTTYPE=image/jpeg:https://srijagannathchicago.org/wp-content/uploa
 ds/2024/12/Maha-Shivaratri-Event.png
END:VEVENT
END:VCALENDAR